BEGIN:VCALENDAR
VERSION:2.0
PRODID:-//ChamberMaster//Event Calendar 2.0//EN
METHOD:PUBLISH
X-PUBLISHED-TTL:P1H
REFRESH-INTERVAL:P1H
CALSCALE:GREGORIAN
BEGIN:VTIMEZONE
TZID:America/Denver
BEGIN:DAYLIGHT
RRULE:FREQ=YEARLY;BYMONTH=3;BYDAY=2SU
DTSTART:20070101T000000
TZOFFSETFROM:-0700
TZOFFSETTO:-0600
TZNAME:Mountain Daylight Time
END:DAYLIGHT
BEGIN:STANDARD
RRULE:FREQ=YEARLY;BYMONTH=11;BYDAY=1SU
DTSTART:20070101T000000
TZOFFSETFROM:-0600
TZOFFSETTO:-0700
TZNAME:Mountain Standard Time
END:STANDARD
END:VTIMEZONE
BEGIN:VEVENT
DTSTART;TZID=America/Denver:20260521T093000
DTEND;TZID=America/Denver:20260521T113000
X-MICROSOFT-CDO-ALLDAYEVENT:FALSE
SUMMARY:IRES (In-Person) Refine Comps Searches and Reports (2CE)
DESCRIPTION:In Person: Refine Comp Searches & ReportsLet the streamlined and beautifully integrated Cloud CMA wow your clients! The first half of this CE approved course covers tips and tricks for refining comps within the MLS and IRESis comparable reports. The second half focuses on Cloud CMA offerings including customizable CMA reports\, buyer tours\, property specific reports & flyers\, plus presentation & mobile options and much more!Prerequisites: To get the most out of this class please be familiar with the IRESis listing search functions.Participants will also receive 2 FREE CE credits.
X-ALT-DESC;FMTTYPE=text/html:<!DOCTYPE html><html><head><title></title></head><body aria-disabled="false"><h5 style="color: rgb(35\, 35\, 41)\; font-weight: normal\; margin: 0px\; font-size: 2rem\; font-family: Roboto\, Arial\, sans-serif\; font-style: normal\; font-variant-ligatures: normal\; font-variant-caps: normal\; letter-spacing: normal\; orphans: 2\; text-align: start\; text-indent: 0px\; text-transform: none\; widows: 2\; word-spacing: 0px\; -webkit-text-stroke-width: 0px\; white-space: normal\; text-decoration-thickness: initial\; text-decoration-style: initial\; text-decoration-color: initial\;">In Person: Refine Comp Searches &amp\; Reports</h5><p><span style="color: rgb(0\, 0\, 0)\; font-family: Roboto\, Arial\, sans-serif\; font-size: 16px\; font-style: normal\; font-variant-ligatures: normal\; font-variant-caps: normal\; font-weight: 400\; letter-spacing: normal\; orphans: 2\; text-align: start\; text-indent: 0px\; text-transform: none\; widows: 2\; word-spacing: 0px\; -webkit-text-stroke-width: 0px\; white-space: normal\; text-decoration-thickness: initial\; text-decoration-style: initial\; text-decoration-color: initial\; display: inline !important\; float: none\;">Let the streamlined and beautifully integrated Cloud CMA wow your clients! The first half of this CE approved course covers tips and tricks for refining comps within the MLS and IRESis comparable reports. The second half focuses on Cloud CMA offerings including customizable CMA reports\, buyer tours\, property specific reports &amp\; flyers\, plus presentation &amp\; mobile options and much more!</span></p><p><span style="color: rgb(0\, 0\, 0)\; font-family: Roboto\, Arial\, sans-serif\; font-size: 16px\; font-style: normal\; font-variant-ligatures: normal\; font-variant-caps: normal\; font-weight: 400\; letter-spacing: normal\; orphans: 2\; text-align: start\; text-indent: 0px\; text-transform: none\; widows: 2\; word-spacing: 0px\; -webkit-text-stroke-width: 0px\; white-space: normal\; text-decoration-thickness: initial\; text-decoration-style: initial\; text-decoration-color: initial\; display: inline !important\; float: none\;">Prerequisites: To get the most out of this class please be familiar with the IRESis listing search functions.</span></p><p><span style="color: rgb(41\, 105\, 176)\;">Participants will also receive 2 FREE CE credits.</span></p></body></html>
LOCATION:826 W Drake Road\, Suite 4 Fort Collins CO 80526
UID:e.3966.1190653
SEQUENCE:3
DTSTAMP:20260423T133132Z
URL:https://members.fcbr.org/community-calendar/Details/ires-in-person-refine-comps-searches-and-reports-2ce-1388043?sourceTypeId=Hub
END:VEVENT
END:VCALENDAR
