BEGIN:VCALENDAR
VERSION:2.0
PRODID:-//ChamberMaster//Event Calendar 2.0//EN
METHOD:PUBLISH
X-PUBLISHED-TTL:P1H
REFRESH-INTERVAL:P1H
CALSCALE:GREGORIAN
BEGIN:VTIMEZONE
TZID:America/Denver
BEGIN:DAYLIGHT
RRULE:FREQ=YEARLY;BYMONTH=3;BYDAY=2SU
DTSTART:20070101T000000
TZOFFSETFROM:-0700
TZOFFSETTO:-0600
TZNAME:Mountain Daylight Time
END:DAYLIGHT
BEGIN:STANDARD
RRULE:FREQ=YEARLY;BYMONTH=11;BYDAY=1SU
DTSTART:20070101T000000
TZOFFSETFROM:-0600
TZOFFSETTO:-0700
TZNAME:Mountain Standard Time
END:STANDARD
END:VTIMEZONE
BEGIN:VEVENT
DTSTART;TZID=America/Denver:20260528T100000
DTEND;TZID=America/Denver:20260528T110000
X-MICROSOFT-CDO-ALLDAYEVENT:FALSE
SUMMARY:Rayse.
DESCRIPTION:Rayse is a real estate program that helps agents clearly show their value to clients. It boosts transparency and trust by giving clients real-time updates on their buying or selling process through interactive presentations\, branded portals\, and closing reports. The platform tracks inquiries\, negotiations\, and market analysis\, helping agents demonstrate their work\, especially useful amid recent real estate commission changes.
X-ALT-DESC;FMTTYPE=text/html:<!DOCTYPE html><html><head><title></title></head><body aria-disabled="false"><p><span data-olk-copy-source="MessageBody" style="font-size: 11pt\; font-family: Inter\;">Rayse is a real estate program that helps agents clearly show their value to clients. It boosts transparency and trust by giving clients real-time updates on their buying or selling process through interactive presentations\, branded portals\, and closing reports. The platform tracks inquiries\, negotiations\, and market analysis\, helping agents demonstrate their work\, especially useful amid recent real estate commission changes.</span></p></body></html>
LOCATION:826 W. Drake Rd. #4 Fort Collins CO 80526
UID:e.3966.1443500
SEQUENCE:3
DTSTAMP:20260423T135106Z
URL:https://members.fcbr.org/community-calendar/Details/rayse-1709740?sourceTypeId=Hub
END:VEVENT
END:VCALENDAR
